BEGIN:VCALENDAR
VERSION:2.0
PRODID:-//AGDA - ECPv6.15.20//NONSGML v1.0//EN
CALSCALE:GREGORIAN
METHOD:PUBLISH
X-WR-CALNAME:AGDA
X-ORIGINAL-URL:https://agda.org.au
X-WR-CALDESC:Events for AGDA
REFRESH-INTERVAL;VALUE=DURATION:PT1H
X-Robots-Tag:noindex
X-PUBLISHED-TTL:PT1H
BEGIN:VTIMEZONE
TZID:UTC
BEGIN:STANDARD
TZOFFSETFROM:+0000
TZOFFSETTO:+0000
TZNAME:UTC
DTSTART:20200101T000000
END:STANDARD
END:VTIMEZONE
BEGIN:VTIMEZONE
TZID:Australia/Sydney
BEGIN:STANDARD
TZOFFSETFROM:+1100
TZOFFSETTO:+1000
TZNAME:AEST
DTSTART:20200404T160000
END:STANDARD
BEGIN:DAYLIGHT
TZOFFSETFROM:+1000
TZOFFSETTO:+1100
TZNAME:AEDT
DTSTART:20201003T160000
END:DAYLIGHT
BEGIN:STANDARD
TZOFFSETFROM:+1100
TZOFFSETTO:+1000
TZNAME:AEST
DTSTART:20210403T160000
END:STANDARD
BEGIN:DAYLIGHT
TZOFFSETFROM:+1000
TZOFFSETTO:+1100
TZNAME:AEDT
DTSTART:20211002T160000
END:DAYLIGHT
BEGIN:STANDARD
TZOFFSETFROM:+1100
TZOFFSETTO:+1000
TZNAME:AEST
DTSTART:20220402T160000
END:STANDARD
BEGIN:DAYLIGHT
TZOFFSETFROM:+1000
TZOFFSETTO:+1100
TZNAME:AEDT
DTSTART:20221001T160000
END:DAYLIGHT
END:VTIMEZONE
BEGIN:VEVENT
DTSTART;VALUE=DATE:20210825
DTEND;VALUE=DATE:20210828
DTSTAMP:20260424T192123
CREATED:20210624T091554Z
LAST-MODIFIED:20210630T070410Z
UID:2923-1629849600-1630108799@agda.org.au
SUMMARY:Australian Bushfire Building Conference - Register
DESCRIPTION:Building industry professionals\, planners\, researchers\, architects and building designers are invited to attend the 7th Australian Bushfire Building Conference on August 25-27th at Fairmont Resort Blue Mountains\, Leura. \nRegistration is $440 for the live\, in-person conference and $220 for the virtual conference. Delegates are encouraged to attend in-person to network with like-minded professionals\, take part in important discussions\, contribute to the economic growth of a bushfire impacted region. \nFor more information and to book your tickets visit www.bushfireconference.com.au
URL:https://agda.org.au/event/australian-bushfire-building-conference/
LOCATION:Fairmont Resort Blue Mountains\, Leura\, NSW\, 2780
ATTACH;FMTTYPE=image/jpeg:https://agda.org.au/wp-content/uploads/2021/06/2.jpg
END:VEVENT
BEGIN:VEVENT
DTSTART;TZID=Australia/Sydney:20210728T110000
DTEND;TZID=Australia/Sydney:20210728T120000
DTSTAMP:20260424T192123
CREATED:20210525T145425Z
LAST-MODIFIED:20210630T070305Z
UID:2598-1627470000-1627473600@agda.org.au
SUMMARY:National Monthly Meeting of the Australian Garage Door Association July - Register
DESCRIPTION:Date: Wednesday 28th July \nTime: 11am AEST \nWhere: Zoom online \n  \nThe Australian Garage Door Association invites its members to attend the AGDA Online Meeting for the month of July. \nPlease register here to attend the AGDA Online Meeting. We look forward to seeing you there! \n  \nREGISTER \n  \n 
URL:https://agda.org.au/event/national-online-monthly-networking-meeting-june-2021/
LOCATION:Online Meeting
ATTACH;FMTTYPE=image/jpeg:https://agda.org.au/wp-content/uploads/2021/02/imgpsh_fullsize_anim.jpg
ORGANIZER;CN="AGDA":MAILTO:info@agda.org.au
END:VEVENT
END:VCALENDAR