BEGIN:VCALENDAR
VERSION:2.0
PRODID:-//AGDA - ECPv5.3.2.1//NONSGML v1.0//EN
CALSCALE:GREGORIAN
METHOD:PUBLISH
X-WR-CALNAME:AGDA
X-ORIGINAL-URL:http://agda.org.au
X-WR-CALDESC:Events for AGDA
BEGIN:VTIMEZONE
TZID:Australia/Sydney
BEGIN:STANDARD
TZOFFSETFROM:+1100
TZOFFSETTO:+1000
TZNAME:AEST
DTSTART:20210403T160000
END:STANDARD
BEGIN:DAYLIGHT
TZOFFSETFROM:+1000
TZOFFSETTO:+1100
TZNAME:AEDT
DTSTART:20211002T160000
END:DAYLIGHT
END:VTIMEZONE
BEGIN:VEVENT
DTSTART;TZID=Australia/Sydney:20210224T110000
DTEND;TZID=Australia/Sydney:20210224T120000
DTSTAMP:20210223T040159
CREATED:20210216T015059Z
LAST-MODIFIED:20210216T104937Z
UID:2151-1614164400-1614168000@agda.org.au
SUMMARY:National Online Meeting - February 2021
DESCRIPTION:The Australian Garage Door Association invites its members to participate in the national online meeting Wednesday 24th February at 11am. \nAt this event\, guest speaker Ian Bassett\, Director Policy & Professional Development of Building Designers Association of Australia\, will discuss the Bal Rating for garage doors\, and specifically Standard AS 3959 – Construction of Buildings in bushfire prone areas. \nREGISTER 
URL:http://agda.org.au/event/national-online-meeting-february-2021/
LOCATION:Online Meeting
ATTACH;FMTTYPE=image/jpeg:https://secureservercdn.net/198.12.144.78/kjz.129.myftpupload.com/wp-content/uploads/2021/02/iStock-108199946-scaled.jpg?time=1613725279
ORGANIZER;CN="AGDA":MAILTO:info@agda.org.au
END:VEVENT
END:VCALENDAR